BEGIN:VCALENDAR
VERSION:2.0
PRODID:-//wp-events-plugin.com//6.6.4.4//EN
BEGIN:VEVENT
UID:6@realmotoclub.net
DTSTART;TZID=Europe/Madrid;VALUE=DATE:20150822
DTEND;TZID=Europe/Madrid;VALUE=DATE:20150823
DTSTAMP:20241212T220101Z
URL:https://realmotoclub.net/eventos/cclviii-excursion-motos-retro-col-de-
 izpegi/
SUMMARY:CCLVIII EXCURSIÓN MOTOS RETRO COL DE IZPEGI
DESCRIPTION:
CATEGORIES:Clásicas
END:VEVENT
BEGIN:VTIMEZONE
TZID:Europe/Madrid
X-LIC-LOCATION:Europe/Madrid
BEGIN:DAYLIGHT
DTSTART:20150329T030000
TZOFFSETFROM:+0100
TZOFFSETTO:+0200
TZNAME:CEST
END:DAYLIGHT
END:VTIMEZONE
END:VCALENDAR